BEGIN:VCALENDAR
VERSION:2.0
PRODID:-//Sabre//Sabre VObject 4.5.8//EN
CALSCALE:GREGORIAN
BEGIN:VEVENT
UID:sabre-vobject-1f7b0d9e-b85f-47e0-b9ba-d9e0ff793fca
DTSTAMP:20260425T103200Z
SUMMARY:New Parent Support Program: Fatherhood Class
DESCRIPTION:This is a class for new and soon-to-be dads of all ages.\n
X-ALT-DESC:FMTTYPE=text/html:<!DOCTYPE HTML PUBLIC "-//W3C//DTD HTML 3.2//E
 N"><HTML><p>This is a class for new and soon-to-be dads of all ages.</p>\n
 </HTML>
CREATED;TZID=America/Juneau:20171012T084436
URL;VALUE=URI:https://wainwright.armymwr.com/calendar/event
DTSTART;TZID=America/Juneau:20171103T150000
DTEND;TZID=America/Juneau:20171103T163000
SEQUENCE:0
END:VEVENT
BEGIN:VEVENT
UID:sabre-vobject-7cc427d1-f44f-40ca-a156-90091727079c
DTSTAMP:20260425T103200Z
SUMMARY:New Parent Support Program: Fatherhood Class
DESCRIPTION:This is a class for new and soon-to-be dads of all ages.\n
X-ALT-DESC:FMTTYPE=text/html:<!DOCTYPE HTML PUBLIC "-//W3C//DTD HTML 3.2//E
 N"><HTML><p>This is a class for new and soon-to-be dads of all ages.</p>\n
 </HTML>
CREATED;TZID=America/Juneau:20171012T084436
URL;VALUE=URI:https://wainwright.armymwr.com/calendar/event
DTSTART;TZID=America/Juneau:20171201T153000
DTEND;TZID=America/Juneau:20171201T163000
SEQUENCE:1
END:VEVENT
END:VCALENDAR
