BEGIN:VCALENDAR
VERSION:2.0
PRODID:-//Sabre//Sabre VObject 4.5.8//EN
CALSCALE:GREGORIAN
BEGIN:VEVENT
UID:sabre-vobject-9e4fde15-ada1-433a-8b6b-604243e7ad2a
DTSTAMP:20260423T004442Z
SUMMARY:Texas Hold'em Tournament
DESCRIPTION:Warrior Zone Monthly Texas Hold'em Tournament
X-ALT-DESC:FMTTYPE=text/html:<!DOCTYPE HTML PUBLIC "-//W3C//DTD HTML 3.2//E
 N"><HTML>Warrior Zone Monthly Texas Hold'em Tournament</HTML>
CREATED;TZID=America/Juneau:20170913T134339
URL;VALUE=URI:https://wainwright.armymwr.com/calendar/event
DTSTART;TZID=America/Juneau:20170812T180000
DTEND;TZID=America/Juneau:20170812T130000
SEQUENCE:0
END:VEVENT
END:VCALENDAR
