BEGIN:VCALENDAR
VERSION:2.0
PRODID:-//Sabre//Sabre VObject 4.5.8//EN
CALSCALE:GREGORIAN
BEGIN:VEVENT
UID:sabre-vobject-bd141409-2e82-428c-9a0e-03babbd5ce9b
DTSTAMP:20260421T163836Z
SUMMARY:LEVY/OCONUS Briefing
DESCRIPTION:This briefing is offered to Soldiers and Families moving overse
 as or back to the lower 48. Information provided at the orientation includ
 e\; Pre-Move Counseling\, PCS Process Procedures\, Finance Entitlements\, 
 Shipping Household Goods\, Port Call\, Family Travel\, Legal Assistance fo
 r claims and Shipment of POV and pets.  Please call our office at (907) 35
 3-7908 for more information and times and locations of the briefings.
X-ALT-DESC:FMTTYPE=text/html:<!DOCTYPE HTML PUBLIC "-//W3C//DTD HTML 3.2//E
 N"><HTML>This briefing is offered to Soldiers and Families moving overseas
  or back to the lower 48. Information provided at the orientation include\
 ; Pre-Move Counseling\, PCS Process Procedures\, Finance Entitlements\, Sh
 ipping Household Goods\, Port Call\, Family Travel\, Legal Assistance for 
 claims and Shipment of POV and pets.  Please call our office at (907) 353-
 7908 for more information and times and locations of the briefings.</HTML>
CREATED;TZID=America/Juneau:20170913T134339
URL;VALUE=URI:https://wainwright.armymwr.com/calendar/event
DTSTART;TZID=America/Juneau:20170803T090000
DTEND;TZID=America/Juneau:20170803T113000
SEQUENCE:0
END:VEVENT
END:VCALENDAR
