BEGIN:VCALENDAR
VERSION:2.0
PRODID:-//Sabre//Sabre VObject 4.5.8//EN
CALSCALE:GREGORIAN
BEGIN:VEVENT
UID:sabre-vobject-f372548c-89c6-4631-b844-1f03a4fd1bd3
DTSTAMP:20260423T093313Z
SUMMARY:Free Soldier Meal 
DESCRIPTION:Active Duty are invited to enjoy a free meal!\n
X-ALT-DESC:FMTTYPE=text/html:<!DOCTYPE HTML PUBLIC "-//W3C//DTD HTML 3.2//E
 N"><HTML><p>Active Duty are invited to enjoy a free meal!</p>\n</HTML>
CREATED;TZID=America/Juneau:20250205T122330
URL;VALUE=URI:https://wainwright.armymwr.com/calendar/event
DTSTART;TZID=America/Juneau:20250217T110000
DTEND;TZID=America/Juneau:20250217T120000
SEQUENCE:0
END:VEVENT
END:VCALENDAR
