BEGIN:VCALENDAR
VERSION:2.0
PRODID:-//Sabre//Sabre VObject 4.5.8//EN
CALSCALE:GREGORIAN
BEGIN:VEVENT
UID:sabre-vobject-131f425b-2586-42e0-8546-cc1156e58abe
DTSTAMP:20260425T000325Z
SUMMARY:Youth Sports Registration: Football Cheerleading
DESCRIPTION:Youth Sports: Cheerleading Registration\n
X-ALT-DESC:FMTTYPE=text/html:<!DOCTYPE HTML PUBLIC "-//W3C//DTD HTML 3.2//E
 N"><HTML><p>Youth Sports: Cheerleading Registration</p>\n</HTML>
CREATED;TZID=America/Juneau:20180510T131820
URL;VALUE=URI:https://wainwright.armymwr.com/calendar/event
DTSTART;TZID=America/Juneau:20180601T130000
DTEND;TZID=America/Juneau:20180601T130000
SEQUENCE:0
END:VEVENT
END:VCALENDAR
