BEGIN:VCALENDAR
VERSION:2.0
PRODID:-//Sabre//Sabre VObject 4.5.8//EN
CALSCALE:GREGORIAN
BEGIN:VEVENT
UID:sabre-vobject-b856ba78-bae2-44f7-a357-a15dca0d1ac0
DTSTAMP:20260423T182519Z
SUMMARY:Free Soldier Meal 
DESCRIPTION:Active Duty are invited to enjoy a free meal!\n
X-ALT-DESC:FMTTYPE=text/html:<!DOCTYPE HTML PUBLIC "-//W3C//DTD HTML 3.2//E
 N"><HTML><p>Active Duty are invited to enjoy a free meal!</p>\n</HTML>
CREATED;TZID=America/Juneau:20250107T095452
URL;VALUE=URI:https://wainwright.armymwr.com/calendar/event
DTSTART;TZID=America/Juneau:20250115T110000
DTEND;TZID=America/Juneau:20250115T120000
SEQUENCE:0
END:VEVENT
END:VCALENDAR
