BEGIN:VCALENDAR
VERSION:2.0
PRODID:-//Sabre//Sabre VObject 4.5.8//EN
CALSCALE:GREGORIAN
BEGIN:VEVENT
UID:sabre-vobject-36eaff11-d347-4bca-95ba-05e20ff151e3
DTSTAMP:20260423T002117Z
SUMMARY:Bounce House Night
DESCRIPTION:Hop on over to the Bounce House Night taking place in the LFCAC
  ballroom!&nbsp\;\n
X-ALT-DESC:FMTTYPE=text/html:<!DOCTYPE HTML PUBLIC "-//W3C//DTD HTML 3.2//E
 N"><HTML><p><strong>Hop on over to the Bounce House Night taking place in 
 the LFCAC ballroom!&nbsp\;</strong></p>\n</HTML>
CREATED;TZID=America/Juneau:20220706T145154
URL;VALUE=URI:https://wainwright.armymwr.com/calendar/event
DTSTART;TZID=America/Juneau:20220707T170000
DTEND;TZID=America/Juneau:20220707T183000
SEQUENCE:0
END:VEVENT
END:VCALENDAR
