BEGIN:VCALENDAR
VERSION:2.0
PRODID:-//Sabre//Sabre VObject 4.5.8//EN
CALSCALE:GREGORIAN
BEGIN:VEVENT
UID:sabre-vobject-e9f4898e-7270-41f9-b182-ed9afec58a83
DTSTAMP:20260424T025156Z
SUMMARY:First Term Soldier's Financial Readiness Workshop
DESCRIPTION:Attendance is mandatory within 2 weeks of in-processing for all
  Soldiers.\n
X-ALT-DESC:FMTTYPE=text/html:<!DOCTYPE HTML PUBLIC "-//W3C//DTD HTML 3.2//E
 N"><HTML><p>Attendance is mandatory within 2 weeks of in-processing for al
 l Soldiers.</p>\n</HTML>
CREATED;TZID=America/Juneau:20220527T140748
URL;VALUE=URI:https://wainwright.armymwr.com/calendar/event
DTSTART;TZID=America/Juneau:20220530T130000
DTEND;TZID=America/Juneau:20220530T160000
SEQUENCE:0
END:VEVENT
END:VCALENDAR
