BEGIN:VCALENDAR
VERSION:2.0
PRODID:-//Sabre//Sabre VObject 4.5.8//EN
CALSCALE:GREGORIAN
BEGIN:VEVENT
UID:sabre-vobject-d5ba0b26-7c65-4c7e-bdca-e0266bc899bc
DTSTAMP:20260423T051356Z
SUMMARY:Father's Appreciation Laser Tag
DESCRIPTION:
X-ALT-DESC:FMTTYPE=text/html:<!DOCTYPE HTML PUBLIC "-//W3C//DTD HTML 3.2//E
 N"><HTML></HTML>
CREATED;TZID=America/Juneau:20220524T100945
URL;VALUE=URI:https://wainwright.armymwr.com/calendar/event
DTSTART;TZID=America/Juneau:20220611T120000
DTEND;TZID=America/Juneau:20220611T170000
SEQUENCE:0
END:VEVENT
END:VCALENDAR
