BEGIN:VCALENDAR
VERSION:2.0
PRODID:-//Sabre//Sabre VObject 4.5.8//EN
CALSCALE:GREGORIAN
BEGIN:VEVENT
UID:sabre-vobject-769b8e4b-29ff-4ef7-a71e-4f4ff163be1c
DTSTAMP:20260423T165004Z
SUMMARY:Father's Day Flower Pot Wind Chime Craft and Bounce House Night
DESCRIPTION:
X-ALT-DESC:FMTTYPE=text/html:<!DOCTYPE HTML PUBLIC "-//W3C//DTD HTML 3.2//E
 N"><HTML></HTML>
CREATED;TZID=America/Juneau:20220524T121230
URL;VALUE=URI:https://wainwright.armymwr.com/calendar/event
DTSTART;TZID=America/Juneau:20220608T163000
DTEND;TZID=America/Juneau:20220608T183000
SEQUENCE:0
END:VEVENT
END:VCALENDAR
