BEGIN:VCALENDAR
VERSION:2.0
PRODID:-//Sabre//Sabre VObject 4.5.8//EN
CALSCALE:GREGORIAN
BEGIN:VEVENT
UID:sabre-vobject-56a9df7f-5f30-417d-ab47-3d66d576bcba
DTSTAMP:20260426T011646Z
SUMMARY:Now Hiring: Come Work with CYS
DESCRIPTION:A job with MEANING.\n
X-ALT-DESC:FMTTYPE=text/html:<!DOCTYPE HTML PUBLIC "-//W3C//DTD HTML 3.2//E
 N"><HTML><p>A job with MEANING.</p>\n</HTML>
CREATED;TZID=America/Juneau:20220509T115109
URL;VALUE=URI:https://wainwright.armymwr.com/calendar/event
DTSTART;TZID=America/Juneau:20220509T000000
DTEND;TZID=America/Juneau:20220930T235959
SEQUENCE:0
END:VEVENT
END:VCALENDAR
