BEGIN:VCALENDAR
VERSION:2.0
PRODID:-//Sabre//Sabre VObject 4.5.8//EN
CALSCALE:GREGORIAN
BEGIN:VEVENT
UID:sabre-vobject-29a05207-dd64-450e-bbeb-ed5a93f5092b
DTSTAMP:20260425T103201Z
SUMMARY:Summer Reading Program Kick-Off
DESCRIPTION:Read Beyond the Beaten Path!\n
X-ALT-DESC:FMTTYPE=text/html:<!DOCTYPE HTML PUBLIC "-//W3C//DTD HTML 3.2//E
 N"><HTML><p>Read Beyond the Beaten Path!</p>\n</HTML>
CREATED;TZID=America/Juneau:20220429T204251
URL;VALUE=URI:https://wainwright.armymwr.com/calendar/event
DTSTART;TZID=America/Juneau:20220514T120000
DTEND;TZID=America/Juneau:20220514T140000
SEQUENCE:0
END:VEVENT
END:VCALENDAR
