BEGIN:VCALENDAR
VERSION:2.0
PRODID:-//Sabre//Sabre VObject 4.5.8//EN
CALSCALE:GREGORIAN
BEGIN:VEVENT
UID:sabre-vobject-56a4057c-a8b3-43e4-a4cc-40ce5033a831
DTSTAMP:20260425T103207Z
SUMMARY:Inflatable Night
DESCRIPTION:A bounce filled night of fun\n
X-ALT-DESC:FMTTYPE=text/html:<!DOCTYPE HTML PUBLIC "-//W3C//DTD HTML 3.2//E
 N"><HTML><p>A bounce filled night of fun</p>\n</HTML>
CREATED;TZID=America/Juneau:20220414T133828
URL;VALUE=URI:https://wainwright.armymwr.com/calendar/event
DTSTART;TZID=America/Juneau:20220426T163000
DTEND;TZID=America/Juneau:20220426T183000
SEQUENCE:0
END:VEVENT
END:VCALENDAR
