BEGIN:VCALENDAR
VERSION:2.0
PRODID:-//Sabre//Sabre VObject 4.5.8//EN
CALSCALE:GREGORIAN
BEGIN:VEVENT
UID:sabre-vobject-d965bc05-c796-4848-94e4-115df2eda9f5
DTSTAMP:20260420T033945Z
SUMMARY:Intramural Basketball Registration Deadline
DESCRIPTION:Sign up for Intramural Basketball with Fort Wainwright Sports!\
 n
X-ALT-DESC:FMTTYPE=text/html:<!DOCTYPE HTML PUBLIC "-//W3C//DTD HTML 3.2//E
 N"><HTML><p>Sign up for Intramural Basketball with Fort Wainwright Sports!
 </p>\n</HTML>
CREATED;TZID=America/Juneau:20181010T153729
URL;VALUE=URI:https://wainwright.armymwr.com/calendar/event
DTSTART;TZID=America/Juneau:20181017T120000
DTEND;TZID=America/Juneau:20181017T130000
SEQUENCE:0
END:VEVENT
END:VCALENDAR
