BEGIN:VCALENDAR
VERSION:2.0
PRODID:-//Sabre//Sabre VObject 4.5.8//EN
CALSCALE:GREGORIAN
BEGIN:VEVENT
UID:sabre-vobject-f0efb033-bd28-46aa-a1fe-83e24bcf7ecf
DTSTAMP:20260420T014503Z
SUMMARY:Fit for Fall - 2 Hour Variety Class
DESCRIPTION:Try a couple of our most popular fitness classes!\n
X-ALT-DESC:FMTTYPE=text/html:<!DOCTYPE HTML PUBLIC "-//W3C//DTD HTML 3.2//E
 N"><HTML><p>Try a couple of our most popular fitness classes!</p>\n</HTML>
CREATED;TZID=America/Juneau:20180926T165743
URL;VALUE=URI:https://wainwright.armymwr.com/calendar/event
DTSTART;TZID=America/Juneau:20181020T100000
DTEND;TZID=America/Juneau:20181020T120000
SEQUENCE:0
END:VEVENT
END:VCALENDAR
