BEGIN:VCALENDAR
VERSION:2.0
PRODID:-//Sabre//Sabre VObject 4.5.8//EN
CALSCALE:GREGORIAN
BEGIN:VEVENT
UID:sabre-vobject-a721b50d-dfac-429e-b3f5-5ee8fb385ff3
DTSTAMP:20260419T165518Z
SUMMARY:The Great Pumpkin Festival 
DESCRIPTION:Come celebrate Halloween with pumpkin carving and decorating!&n
 bsp\;\n
X-ALT-DESC:FMTTYPE=text/html:<!DOCTYPE HTML PUBLIC "-//W3C//DTD HTML 3.2//E
 N"><HTML><p>Come celebrate Halloween with pumpkin carving and decorating!&
 nbsp\;</p>\n</HTML>
CREATED;TZID=America/Juneau:20181102T155602
URL;VALUE=URI:https://wainwright.armymwr.com/calendar/event
DTSTART;TZID=America/Juneau:20181020T140000
DTEND;TZID=America/Juneau:20181020T170000
SEQUENCE:0
END:VEVENT
BEGIN:VEVENT
UID:sabre-vobject-e2b5f2d7-96f6-4164-ad00-c6635631cd75
DTSTAMP:20260419T165518Z
SUMMARY:The Great Pumpkin Festival 
DESCRIPTION:Come celebrate Halloween with pumpkin carving and decorating!&n
 bsp\;\n
X-ALT-DESC:FMTTYPE=text/html:<!DOCTYPE HTML PUBLIC "-//W3C//DTD HTML 3.2//E
 N"><HTML><p>Come celebrate Halloween with pumpkin carving and decorating!&
 nbsp\;</p>\n</HTML>
CREATED;TZID=America/Juneau:20181102T155602
URL;VALUE=URI:https://wainwright.armymwr.com/calendar/event
DTSTART;TZID=America/Juneau:20181021T140000
DTEND;TZID=America/Juneau:20181021T160000
SEQUENCE:1
END:VEVENT
END:VCALENDAR
