BEGIN:VCALENDAR
VERSION:2.0
PRODID:-//Sabre//Sabre VObject 4.5.8//EN
CALSCALE:GREGORIAN
BEGIN:VEVENT
UID:sabre-vobject-6e86fdc9-7a44-4f22-958b-64b0fa411d8c
DTSTAMP:20260421T004104Z
SUMMARY:B.O.S.S. 21-Day Fitness Challenge
DESCRIPTION:Get fit\, B.O.S.S. Soldiers!&nbsp\;\n
X-ALT-DESC:FMTTYPE=text/html:<!DOCTYPE HTML PUBLIC "-//W3C//DTD HTML 3.2//E
 N"><HTML><p>Get fit\, B.O.S.S. Soldiers!&nbsp\;</p>\n</HTML>
CREATED;TZID=America/Juneau:20180919T094920
URL;VALUE=URI:https://wainwright.armymwr.com/calendar/event
DTSTART;TZID=America/Juneau:20181010T090000
DTEND;TZID=America/Juneau:20181031T100000
SEQUENCE:0
END:VEVENT
END:VCALENDAR
