BEGIN:VCALENDAR
VERSION:2.0
PRODID:-//Sabre//Sabre VObject 4.5.8//EN
CALSCALE:GREGORIAN
BEGIN:VEVENT
UID:sabre-vobject-a33d1cbd-3bc7-4907-8f68-ac9ca7e18825
DTSTAMP:20260421T034207Z
SUMMARY:Youth Center Lip Sync Practice
DESCRIPTION:Practice your lip syncing!\n
X-ALT-DESC:FMTTYPE=text/html:<!DOCTYPE HTML PUBLIC "-//W3C//DTD HTML 3.2//E
 N"><HTML><p>Practice your lip syncing!</p>\n</HTML>
CREATED;TZID=America/Juneau:20180917T113352
URL;VALUE=URI:https://wainwright.armymwr.com/calendar/event
DTSTART;TZID=America/Juneau:20180905T163000
DTEND;TZID=America/Juneau:20180905T190000
SEQUENCE:0
END:VEVENT
END:VCALENDAR
