BEGIN:VCALENDAR
VERSION:2.0
PRODID:-//Sabre//Sabre VObject 4.5.8//EN
CALSCALE:GREGORIAN
BEGIN:VEVENT
UID:sabre-vobject-23fc356c-58ad-48d8-a308-4b1281ce437c
DTSTAMP:20260419T121225Z
SUMMARY:Fit and Furious Ab Challenge 
DESCRIPTION:Rock those abs and obliques to the core!\n
X-ALT-DESC:FMTTYPE=text/html:<!DOCTYPE HTML PUBLIC "-//W3C//DTD HTML 3.2//E
 N"><HTML><p>Rock those abs and obliques to the core!</p>\n</HTML>
CREATED;TZID=America/Juneau:20180914T095256
URL;VALUE=URI:https://wainwright.armymwr.com/calendar/event
DTSTART;TZID=America/Juneau:20181001T183000
DTEND;TZID=America/Juneau:20181001T193000
SEQUENCE:0
END:VEVENT
BEGIN:VEVENT
UID:sabre-vobject-4d37e109-8bcb-4a2e-894e-c6697bd6e21b
DTSTAMP:20260419T121225Z
SUMMARY:Fit and Furious Ab Challenge 
DESCRIPTION:Rock those abs and obliques to the core!\n
X-ALT-DESC:FMTTYPE=text/html:<!DOCTYPE HTML PUBLIC "-//W3C//DTD HTML 3.2//E
 N"><HTML><p>Rock those abs and obliques to the core!</p>\n</HTML>
CREATED;TZID=America/Juneau:20180914T095256
URL;VALUE=URI:https://wainwright.armymwr.com/calendar/event
DTSTART;TZID=America/Juneau:20181003T183000
DTEND;TZID=America/Juneau:20181003T193000
SEQUENCE:1
END:VEVENT
BEGIN:VEVENT
UID:sabre-vobject-2c108881-7966-4af1-8123-3b79f0d8abb2
DTSTAMP:20260419T121225Z
SUMMARY:Fit and Furious Ab Challenge 
DESCRIPTION:Rock those abs and obliques to the core!\n
X-ALT-DESC:FMTTYPE=text/html:<!DOCTYPE HTML PUBLIC "-//W3C//DTD HTML 3.2//E
 N"><HTML><p>Rock those abs and obliques to the core!</p>\n</HTML>
CREATED;TZID=America/Juneau:20180914T095256
URL;VALUE=URI:https://wainwright.armymwr.com/calendar/event
DTSTART;TZID=America/Juneau:20181005T180000
DTEND;TZID=America/Juneau:20181005T190000
SEQUENCE:2
END:VEVENT
END:VCALENDAR
