BEGIN:VCALENDAR
VERSION:2.0
PRODID:-//Sabre//Sabre VObject 4.5.8//EN
CALSCALE:GREGORIAN
BEGIN:VEVENT
UID:sabre-vobject-3dd66bc5-075c-42cf-9922-aefc29575834
DTSTAMP:20260422T182722Z
SUMMARY:Chena Bend Open
DESCRIPTION:Come join us and participate in the 3rd Annual Chena Bend Open!
 \n
X-ALT-DESC:FMTTYPE=text/html:<!DOCTYPE HTML PUBLIC "-//W3C//DTD HTML 3.2//E
 N"><HTML><p>Come join us and participate in the 3rd Annual Chena Bend Open
 !</p>\n</HTML>
CREATED;TZID=America/Juneau:20180806T110318
URL;VALUE=URI:https://wainwright.armymwr.com/calendar/event
DTSTART;TZID=America/Juneau:20180825T000000
DTEND;TZID=America/Juneau:20180825T235959
SEQUENCE:0
END:VEVENT
BEGIN:VEVENT
UID:sabre-vobject-e5d2f2de-6496-4719-a394-7c4998f96dcf
DTSTAMP:20260422T182722Z
SUMMARY:Chena Bend Open
DESCRIPTION:Come join us and participate in the 3rd Annual Chena Bend Open!
 \n
X-ALT-DESC:FMTTYPE=text/html:<!DOCTYPE HTML PUBLIC "-//W3C//DTD HTML 3.2//E
 N"><HTML><p>Come join us and participate in the 3rd Annual Chena Bend Open
 !</p>\n</HTML>
CREATED;TZID=America/Juneau:20180806T110318
URL;VALUE=URI:https://wainwright.armymwr.com/calendar/event
DTSTART;TZID=America/Juneau:20180826T000000
DTEND;TZID=America/Juneau:20180826T235959
SEQUENCE:1
END:VEVENT
END:VCALENDAR
