BEGIN:VCALENDAR
VERSION:2.0
PRODID:-//Sabre//Sabre VObject 4.5.8//EN
CALSCALE:GREGORIAN
BEGIN:VEVENT
UID:sabre-vobject-e1f2487b-9b41-488b-a411-13254383426a
DTSTAMP:20260423T135058Z
SUMMARY:Back To School 2-Hour Fitness Class
DESCRIPTION:A 2-hour fitness class to celebrate back to school season!\n
X-ALT-DESC:FMTTYPE=text/html:<!DOCTYPE HTML PUBLIC "-//W3C//DTD HTML 3.2//E
 N"><HTML><p>A 2-hour fitness class to celebrate back to school season!</p>
 \n</HTML>
CREATED;TZID=America/Juneau:20180802T143226
URL;VALUE=URI:https://wainwright.armymwr.com/calendar/event
DTSTART;TZID=America/Juneau:20180811T100000
DTEND;TZID=America/Juneau:20180811T120000
SEQUENCE:0
END:VEVENT
END:VCALENDAR
