BEGIN:VCALENDAR
VERSION:2.0
PRODID:-//Sabre//Sabre VObject 4.5.8//EN
CALSCALE:GREGORIAN
BEGIN:VEVENT
UID:sabre-vobject-88519cb0-5efc-4f81-85b0-780f5a17dc9b
DTSTAMP:20260423T151926Z
SUMMARY:The Zombie Run: 5k Fun Run
DESCRIPTION:Run for your life!\n
X-ALT-DESC:FMTTYPE=text/html:<!DOCTYPE HTML PUBLIC "-//W3C//DTD HTML 3.2//E
 N"><HTML><p>Run for your life!</p>\n</HTML>
CREATED;TZID=America/Juneau:20180807T103101
URL;VALUE=URI:https://wainwright.armymwr.com/calendar/event
DTSTART;TZID=America/Juneau:20180811T110000
DTEND;TZID=America/Juneau:20180811T120000
SEQUENCE:0
END:VEVENT
END:VCALENDAR
