BEGIN:VCALENDAR
VERSION:2.0
PRODID:-//Sabre//Sabre VObject 4.5.8//EN
CALSCALE:GREGORIAN
BEGIN:VEVENT
UID:sabre-vobject-850b6ec9-7a4b-4870-80de-4bf59c2a3438
DTSTAMP:20260422T165643Z
SUMMARY:Army Entertainment Esports: Street Fighter V Tournament
DESCRIPTION:Do you have what it takes to win it all? Compete in the 1&nbsp\
 ;v 1&nbsp\;Army Entertainment Esports: Street Fighter V Tournament!\n
X-ALT-DESC:FMTTYPE=text/html:<!DOCTYPE HTML PUBLIC "-//W3C//DTD HTML 3.2//E
 N"><HTML><p>Do you have what it takes to win it all? Compete in the 1&nbsp
 \;v 1&nbsp\;Army Entertainment Esports: Street Fighter V Tournament!</p>\n
 </HTML>
CREATED;TZID=America/Juneau:20180813T145654
URL;VALUE=URI:https://wainwright.armymwr.com/calendar/event
DTSTART;TZID=America/Juneau:20180825T130000
DTEND;TZID=America/Juneau:20180825T210000
SEQUENCE:0
END:VEVENT
END:VCALENDAR
