BEGIN:VCALENDAR
VERSION:2.0
PRODID:-//Sabre//Sabre VObject 4.5.8//EN
CALSCALE:GREGORIAN
BEGIN:VEVENT
UID:sabre-vobject-e8e3ff9a-3b7e-46f9-99f4-183a40f3be0a
DTSTAMP:20260423T205351Z
SUMMARY:Summer Blood Drive
DESCRIPTION:Donate and save a life!\n
X-ALT-DESC:FMTTYPE=text/html:<!DOCTYPE HTML PUBLIC "-//W3C//DTD HTML 3.2//E
 N"><HTML><p>Donate and save a life!</p>\n</HTML>
CREATED;TZID=America/Juneau:20180718T110000
URL;VALUE=URI:https://wainwright.armymwr.com/calendar/event
DTSTART;TZID=America/Juneau:20180726T090000
DTEND;TZID=America/Juneau:20180726T160000
SEQUENCE:0
END:VEVENT
BEGIN:VEVENT
UID:sabre-vobject-38f6efd9-1fcf-4997-97b9-25fa7a72d0db
DTSTAMP:20260423T205351Z
SUMMARY:Summer Blood Drive
DESCRIPTION:Donate and save a life!\n
X-ALT-DESC:FMTTYPE=text/html:<!DOCTYPE HTML PUBLIC "-//W3C//DTD HTML 3.2//E
 N"><HTML><p>Donate and save a life!</p>\n</HTML>
CREATED;TZID=America/Juneau:20180718T110000
URL;VALUE=URI:https://wainwright.armymwr.com/calendar/event
DTSTART;TZID=America/Juneau:20180727T090000
DTEND;TZID=America/Juneau:20180727T160000
SEQUENCE:1
END:VEVENT
END:VCALENDAR
