BEGIN:VCALENDAR
VERSION:2.0
PRODID:-//Sabre//Sabre VObject 4.5.8//EN
CALSCALE:GREGORIAN
BEGIN:VEVENT
UID:sabre-vobject-2fa04ca4-ae92-43bc-b5c4-19024d93f532
DTSTAMP:20260423T163743Z
SUMMARY:Bootcamp on Birch Hill
DESCRIPTION:Why workout inside when you can go outside?\n
X-ALT-DESC:FMTTYPE=text/html:<!DOCTYPE HTML PUBLIC "-//W3C//DTD HTML 3.2//E
 N"><HTML><p>Why workout inside when you can go outside?</p>\n</HTML>
CREATED;TZID=America/Juneau:20190708T190940
URL;VALUE=URI:https://wainwright.armymwr.com/calendar/event
DTSTART;TZID=America/Juneau:20180803T100000
DTEND;TZID=America/Juneau:20180803T120000
SEQUENCE:0
END:VEVENT
END:VCALENDAR
