BEGIN:VCALENDAR
VERSION:2.0
PRODID:-//Sabre//Sabre VObject 4.5.8//EN
CALSCALE:GREGORIAN
BEGIN:VEVENT
UID:sabre-vobject-10f7bc37-5f30-4c6c-a485-a117363af84b
DTSTAMP:20260425T005132Z
SUMMARY:B.O.S.S. Seward Halibut Fishing Trip
DESCRIPTION:Fish on!\n
X-ALT-DESC:FMTTYPE=text/html:<!DOCTYPE HTML PUBLIC "-//W3C//DTD HTML 3.2//E
 N"><HTML><p>Fish on!</p>\n</HTML>
CREATED;TZID=America/Juneau:20180705T095955
URL;VALUE=URI:https://wainwright.armymwr.com/calendar/event
DTSTART;TZID=America/Juneau:20180706T090000
DTEND;TZID=America/Juneau:20180709T100000
SEQUENCE:0
END:VEVENT
END:VCALENDAR
