BEGIN:VCALENDAR
VERSION:2.0
PRODID:-//Sabre//Sabre VObject 4.5.8//EN
CALSCALE:GREGORIAN
BEGIN:VEVENT
UID:sabre-vobject-d8c61615-8a95-4af6-a481-92b82bae1b38
DTSTAMP:20260425T103206Z
SUMMARY:Kids Bowl Free!
DESCRIPTION:
X-ALT-DESC:FMTTYPE=text/html:<!DOCTYPE HTML PUBLIC "-//W3C//DTD HTML 3.2//E
 N"><HTML></HTML>
CREATED;TZID=America/Juneau:20180522T185221
URL;VALUE=URI:https://wainwright.armymwr.com/calendar/event
DTSTART;TZID=America/Juneau:20180523T110000
DTEND;TZID=America/Juneau:20180523T170000
SEQUENCE:0
END:VEVENT
END:VCALENDAR
