BEGIN:VCALENDAR
VERSION:2.0
PRODID:-//Sabre//Sabre VObject 4.5.8//EN
CALSCALE:GREGORIAN
BEGIN:VEVENT
UID:sabre-vobject-50c189ca-00e9-4321-970c-41c668bedabb
DTSTAMP:20260425T165126Z
SUMMARY:B.O.S.S. Single Parent & Child Campout
DESCRIPTION:Take to the woods and experience nature with your child and B.O
 .S.S.\n
X-ALT-DESC:FMTTYPE=text/html:<!DOCTYPE HTML PUBLIC "-//W3C//DTD HTML 3.2//E
 N"><HTML><p>Take to the woods and experience nature with your child and B.
 O.S.S.</p>\n</HTML>
CREATED;TZID=America/Juneau:20180522T181510
URL;VALUE=URI:https://wainwright.armymwr.com/calendar/event
DTSTART;TZID=America/Juneau:20180614T180000
DTEND;TZID=America/Juneau:20180615T190000
SEQUENCE:0
END:VEVENT
END:VCALENDAR
