BEGIN:VCALENDAR
VERSION:2.0
PRODID:-//Sabre//Sabre VObject 4.5.8//EN
CALSCALE:GREGORIAN
BEGIN:VEVENT
UID:sabre-vobject-ac07b3fd-682f-4608-9622-601d18ca04ab
DTSTAMP:20260426T011637Z
SUMMARY:B.O.S.S. Seward R&R Trip
DESCRIPTION:Take a drive to the coast and check out Seward\, Alaska with B.
 O.S.S.\n
X-ALT-DESC:FMTTYPE=text/html:<!DOCTYPE HTML PUBLIC "-//W3C//DTD HTML 3.2//E
 N"><HTML><p>Take a drive to the coast and check out Seward\, Alaska with B
 .O.S.S.</p>\n</HTML>
CREATED;TZID=America/Juneau:20180522T175950
URL;VALUE=URI:https://wainwright.armymwr.com/calendar/event
DTSTART;TZID=America/Juneau:20180614T173000
DTEND;TZID=America/Juneau:20180617T183000
SEQUENCE:0
END:VEVENT
END:VCALENDAR
