BEGIN:VCALENDAR
VERSION:2.0
PRODID:-//Sabre//Sabre VObject 4.5.8//EN
CALSCALE:GREGORIAN
BEGIN:VEVENT
UID:sabre-vobject-d01f2165-b772-4e79-afd6-ca13a1d200ef
DTSTAMP:20260425T165124Z
SUMMARY:B.O.S.S. Single Parents & Children Chena River Float
DESCRIPTION:Single Parents who are eligible B.O.S.S. Service Members are we
 lcome to bring their kids on the lower Chena River float.\n
X-ALT-DESC:FMTTYPE=text/html:<!DOCTYPE HTML PUBLIC "-//W3C//DTD HTML 3.2//E
 N"><HTML><p>Single Parents who are eligible B.O.S.S. Service Members are w
 elcome to bring their kids on the lower Chena River float.</p>\n</HTML>
CREATED;TZID=America/Juneau:20180510T163706
URL;VALUE=URI:https://wainwright.armymwr.com/calendar/event
DTSTART;TZID=America/Juneau:20180608T173000
DTEND;TZID=America/Juneau:20180608T200000
SEQUENCE:0
END:VEVENT
END:VCALENDAR
