BEGIN:VCALENDAR
VERSION:2.0
PRODID:-//Sabre//Sabre VObject 4.5.8//EN
CALSCALE:GREGORIAN
BEGIN:VEVENT
UID:sabre-vobject-d3029f75-ca86-4dbc-acbf-ec42350a94bc
DTSTAMP:20260426T041930Z
SUMMARY:LifeFit Tour Fitness Class
DESCRIPTION:Make positive changes in your health during May with Strong B.A
 .N.D.S.\n\nComing to Fort Wainwright\, presented by Armed Forces Entertain
 ment:&nbsp\;LifeFit\, with professional athletes teaching intense workouts
 .\n
X-ALT-DESC:FMTTYPE=text/html:<!DOCTYPE HTML PUBLIC "-//W3C//DTD HTML 3.2//E
 N"><HTML><p>Make positive changes in your health during May with Strong B.
 A.N.D.S.</p>\n\n<p>Coming to Fort Wainwright\, presented by Armed Forces E
 ntertainment:&nbsp\;LifeFit\, with professional athletes teaching intense 
 workouts.</p>\n</HTML>
CREATED;TZID=America/Juneau:20180501T145155
URL;VALUE=URI:https://wainwright.armymwr.com/calendar/event
DTSTART;TZID=America/Juneau:20180515T063000
DTEND;TZID=America/Juneau:20180515T073000
SEQUENCE:0
END:VEVENT
BEGIN:VEVENT
UID:sabre-vobject-69b58c25-1f58-4ea2-bcaa-247aa2b81b7f
DTSTAMP:20260426T041930Z
SUMMARY:LifeFit Tour Fitness Class
DESCRIPTION:Make positive changes in your health during May with Strong B.A
 .N.D.S.\n\nComing to Fort Wainwright\, presented by Armed Forces Entertain
 ment:&nbsp\;LifeFit\, with professional athletes teaching intense workouts
 .\n
X-ALT-DESC:FMTTYPE=text/html:<!DOCTYPE HTML PUBLIC "-//W3C//DTD HTML 3.2//E
 N"><HTML><p>Make positive changes in your health during May with Strong B.
 A.N.D.S.</p>\n\n<p>Coming to Fort Wainwright\, presented by Armed Forces E
 ntertainment:&nbsp\;LifeFit\, with professional athletes teaching intense 
 workouts.</p>\n</HTML>
CREATED;TZID=America/Juneau:20180501T145155
URL;VALUE=URI:https://wainwright.armymwr.com/calendar/event
DTSTART;TZID=America/Juneau:20180515T183000
DTEND;TZID=America/Juneau:20180515T193000
SEQUENCE:1
END:VEVENT
END:VCALENDAR
