BEGIN:VCALENDAR
VERSION:2.0
PRODID:-//Sabre//Sabre VObject 4.5.8//EN
CALSCALE:GREGORIAN
BEGIN:VEVENT
UID:sabre-vobject-01b8ead0-fd16-4b98-85f9-de62d9b6ad64
DTSTAMP:20260425T210959Z
SUMMARY:Strong B.A.N.D.S. Rock Wall Bouldering
DESCRIPTION:Make positive changes in your health during May with Strong B.A
 .N.D.S.\n
X-ALT-DESC:FMTTYPE=text/html:<!DOCTYPE HTML PUBLIC "-//W3C//DTD HTML 3.2//E
 N"><HTML><p>Make positive changes in your health during May with Strong B.
 A.N.D.S.</p>\n</HTML>
CREATED;TZID=America/Juneau:20180501T135204
URL;VALUE=URI:https://wainwright.armymwr.com/calendar/event
DTSTART;TZID=America/Juneau:20180513T120000
DTEND;TZID=America/Juneau:20180513T180000
SEQUENCE:0
END:VEVENT
BEGIN:VEVENT
UID:sabre-vobject-fe3173a9-d51c-4d29-8fa2-622e38b3948e
DTSTAMP:20260425T210959Z
SUMMARY:Strong B.A.N.D.S. Rock Wall Bouldering
DESCRIPTION:Make positive changes in your health during May with Strong B.A
 .N.D.S.\n
X-ALT-DESC:FMTTYPE=text/html:<!DOCTYPE HTML PUBLIC "-//W3C//DTD HTML 3.2//E
 N"><HTML><p>Make positive changes in your health during May with Strong B.
 A.N.D.S.</p>\n</HTML>
CREATED;TZID=America/Juneau:20180501T135204
URL;VALUE=URI:https://wainwright.armymwr.com/calendar/event
DTSTART;TZID=America/Juneau:20180514T100000
DTEND;TZID=America/Juneau:20180514T180000
SEQUENCE:1
END:VEVENT
END:VCALENDAR
