BEGIN:VCALENDAR
VERSION:2.0
PRODID:-//Sabre//Sabre VObject 4.5.8//EN
CALSCALE:GREGORIAN
BEGIN:VEVENT
UID:sabre-vobject-d928e9c1-dc01-4322-ac84-7ce4a9cdaf90
DTSTAMP:20260423T163743Z
SUMMARY:Stand-up Paddleboarding to the Boatel
DESCRIPTION:Float from the Outdoor Recreation Center to the Boatel in an af
 ternoon of fun!\n
X-ALT-DESC:FMTTYPE=text/html:<!DOCTYPE HTML PUBLIC "-//W3C//DTD HTML 3.2//E
 N"><HTML><p>Float from the Outdoor Recreation Center to the Boatel in an a
 fternoon of fun!</p>\n</HTML>
CREATED;TZID=America/Juneau:20180618T091452
URL;VALUE=URI:https://wainwright.armymwr.com/calendar/event
DTSTART;TZID=America/Juneau:20180629T173000
DTEND;TZID=America/Juneau:20180629T210000
SEQUENCE:0
END:VEVENT
BEGIN:VEVENT
UID:sabre-vobject-db6b14e8-f12a-4a5c-8679-c1d8e137b1a1
DTSTAMP:20260423T163743Z
SUMMARY:Stand-up Paddleboarding to the Boatel
DESCRIPTION:Float from the Outdoor Recreation Center to the Boatel in an af
 ternoon of fun!\n
X-ALT-DESC:FMTTYPE=text/html:<!DOCTYPE HTML PUBLIC "-//W3C//DTD HTML 3.2//E
 N"><HTML><p>Float from the Outdoor Recreation Center to the Boatel in an a
 fternoon of fun!</p>\n</HTML>
CREATED;TZID=America/Juneau:20180618T091452
URL;VALUE=URI:https://wainwright.armymwr.com/calendar/event
DTSTART;TZID=America/Juneau:20180810T173000
DTEND;TZID=America/Juneau:20180810T210000
SEQUENCE:1
END:VEVENT
END:VCALENDAR
