BEGIN:VCALENDAR
VERSION:2.0
PRODID:-//Sabre//Sabre VObject 4.5.8//EN
CALSCALE:GREGORIAN
BEGIN:VEVENT
UID:sabre-vobject-9165e679-f984-466a-b522-c2c104f872d0
DTSTAMP:20260426T041935Z
SUMMARY:B.O.S.S. Hike in Denali National Park for Single Parents and Kids
DESCRIPTION:You and your kid can get out in the wilderness with B.O.S.S. as
  you &quot\;Winter&quot\;&nbsp\;hike in Denali National Park &amp\; Preser
 ve.\n
X-ALT-DESC:FMTTYPE=text/html:<!DOCTYPE HTML PUBLIC "-//W3C//DTD HTML 3.2//E
 N"><HTML><p>You and your kid can get out in the wilderness with B.O.S.S. a
 s you &quot\;Winter&quot\;&nbsp\;hike in Denali National Park &amp\; Prese
 rve.</p>\n</HTML>
CREATED;TZID=America/Juneau:20180321T160927
URL;VALUE=URI:https://wainwright.armymwr.com/calendar/event
DTSTART;TZID=America/Juneau:20180519T080000
DTEND;TZID=America/Juneau:20180519T200000
SEQUENCE:0
END:VEVENT
END:VCALENDAR
