BEGIN:VCALENDAR
VERSION:2.0
PRODID:-//Sabre//Sabre VObject 4.5.8//EN
CALSCALE:GREGORIAN
BEGIN:VEVENT
UID:sabre-vobject-7ece9b8b-3c7a-43f8-81eb-9a34cccb3281
DTSTAMP:20260425T103211Z
SUMMARY:Red Pin Bowl-a-palooza throughout November!
DESCRIPTION:See if you can bowl a strike during the Red Pin Bowl-a-palooza 
 and be entered to win a giveaway!\n
X-ALT-DESC:FMTTYPE=text/html:<!DOCTYPE HTML PUBLIC "-//W3C//DTD HTML 3.2//E
 N"><HTML><p>See if you can bowl a strike during the Red Pin Bowl-a-palooza
  and be entered to win a giveaway!</p>\n</HTML>
CREATED;TZID=America/Juneau:20171102T145137
URL;VALUE=URI:https://wainwright.armymwr.com/calendar/event
DTSTART;TZID=America/Juneau:20171101T130000
DTEND;TZID=America/Juneau:20171101T170000
SEQUENCE:0
END:VEVENT
END:VCALENDAR
