BEGIN:VCALENDAR
VERSION:2.0
PRODID:-//Sabre//Sabre VObject 4.5.8//EN
CALSCALE:GREGORIAN
BEGIN:VEVENT
UID:sabre-vobject-3f1ef987-7aca-4da8-9c52-690dd9407f61
DTSTAMP:20260425T103213Z
SUMMARY:Tire Changeover Clinic
DESCRIPTION:Change your tires over with confidence after taking this short 
 class!\n
X-ALT-DESC:FMTTYPE=text/html:<!DOCTYPE HTML PUBLIC "-//W3C//DTD HTML 3.2//E
 N"><HTML><p>Change your tires over with confidence after taking this short
  class!</p>\n</HTML>
CREATED;TZID=America/Juneau:20171010T154200
URL;VALUE=URI:https://wainwright.armymwr.com/calendar/event
DTSTART;TZID=America/Juneau:20171012T181000
DTEND;TZID=America/Juneau:20171012T191000
SEQUENCE:0
END:VEVENT
END:VCALENDAR
