BEGIN:VCALENDAR
VERSION:2.0
PRODID:-//Sabre//Sabre VObject 4.5.8//EN
CALSCALE:GREGORIAN
BEGIN:VEVENT
UID:sabre-vobject-fe34c374-7e08-4702-8abd-33d09b6d8997
DTSTAMP:20260426T011635Z
SUMMARY:Haunted Trail Hike & Costume Party
DESCRIPTION:Frights hide behind every turn... are you brave enough to take 
 a walk in the woods?\n
X-ALT-DESC:FMTTYPE=text/html:<!DOCTYPE HTML PUBLIC "-//W3C//DTD HTML 3.2//E
 N"><HTML><p>Frights hide behind every turn... are you brave enough to take
  a walk in the woods?</p>\n</HTML>
CREATED;TZID=America/Juneau:20171023T153816
URL;VALUE=URI:https://wainwright.armymwr.com/calendar/event
DTSTART;TZID=America/Juneau:20171028T180000
DTEND;TZID=America/Juneau:20171028T190000
SEQUENCE:0
END:VEVENT
END:VCALENDAR
