BEGIN:VCALENDAR
VERSION:2.0
PRODID:-//Sabre//Sabre VObject 4.5.8//EN
CALSCALE:GREGORIAN
BEGIN:VEVENT
UID:sabre-vobject-52862a83-e4e9-439e-9674-1a2a8bdd0d3e
DTSTAMP:20260425T005356Z
SUMMARY:Trick-or-Trot Halloween 5k Fun Run
DESCRIPTION:He did the dash...the monster dash! Bring the family down for a
 n afternoon of Halloween fun for everyone!\n
X-ALT-DESC:FMTTYPE=text/html:<!DOCTYPE HTML PUBLIC "-//W3C//DTD HTML 3.2//E
 N"><HTML><p>He did the dash...the monster dash! Bring the family down for 
 an afternoon of Halloween fun for everyone!</p>\n</HTML>
CREATED;TZID=America/Juneau:20171020T135804
URL;VALUE=URI:https://wainwright.armymwr.com/calendar/event
DTSTART;TZID=America/Juneau:20171021T140000
DTEND;TZID=America/Juneau:20171021T170000
SEQUENCE:0
END:VEVENT
END:VCALENDAR
