BEGIN:VCALENDAR
VERSION:2.0
PRODID:-//Sabre//Sabre VObject 4.5.8//EN
CALSCALE:GREGORIAN
BEGIN:VEVENT
UID:sabre-vobject-7745292a-dc95-4ca8-a24d-2e9b048e0947
DTSTAMP:20260425T203303Z
SUMMARY:Veteran's Day Arctic Beast Powerlift Competition
DESCRIPTION:Do you have what it takes to be named the Arctic Beast?\n
X-ALT-DESC:FMTTYPE=text/html:<!DOCTYPE HTML PUBLIC "-//W3C//DTD HTML 3.2//E
 N"><HTML><p>Do you have what it takes to be named the Arctic Beast?</p>\n<
 /HTML>
CREATED;TZID=America/Juneau:20171019T130552
URL;VALUE=URI:https://wainwright.armymwr.com/calendar/event
DTSTART;TZID=America/Juneau:20171111T113000
DTEND;TZID=America/Juneau:20171111T123000
SEQUENCE:0
END:VEVENT
END:VCALENDAR
