BEGIN:VCALENDAR
VERSION:2.0
PRODID:-//Sabre//Sabre VObject 4.5.8//EN
CALSCALE:GREGORIAN
BEGIN:VEVENT
UID:sabre-vobject-9066fe24-bf35-4e6e-96f3-5056a0ab3477
DTSTAMP:20260424T100511Z
SUMMARY:4-H National Youth Science Day at the School Age Center
DESCRIPTION:Discover the world&#39\;s largest youth-led science experiment!
 \n
X-ALT-DESC:FMTTYPE=text/html:<!DOCTYPE HTML PUBLIC "-//W3C//DTD HTML 3.2//E
 N"><HTML><p>Discover the world&#39\;s largest youth-led science experiment
 !</p>\n</HTML>
CREATED;TZID=America/Juneau:20170918T141544
URL;VALUE=URI:https://wainwright.armymwr.com/calendar/event
DTSTART;TZID=America/Juneau:20171004T070000
DTEND;TZID=America/Juneau:20171004T173000
SEQUENCE:0
END:VEVENT
END:VCALENDAR
