BEGIN:VCALENDAR
VERSION:2.0
PRODID:-//Sabre//Sabre VObject 4.5.8//EN
CALSCALE:GREGORIAN
BEGIN:VEVENT
UID:sabre-vobject-65bb7172-b7e5-4629-859e-a48961e659f7
DTSTAMP:20260425T005131Z
SUMMARY:Friday Family Night Rock Climbing
DESCRIPTION:Enjoy an evening of indoor rock climbing with the family!\n
X-ALT-DESC:FMTTYPE=text/html:<!DOCTYPE HTML PUBLIC "-//W3C//DTD HTML 3.2//E
 N"><HTML><p>Enjoy an evening of indoor rock climbing with the family!</p>\
 n</HTML>
CREATED;TZID=America/Juneau:20170913T134344
URL;VALUE=URI:https://wainwright.armymwr.com/calendar/event
DTSTART;TZID=America/Juneau:20171020T173000
DTEND;TZID=America/Juneau:20171020T200000
SEQUENCE:0
END:VEVENT
END:VCALENDAR
