BEGIN:VCALENDAR
VERSION:2.0
PRODID:-//Sabre//Sabre VObject 4.5.8//EN
CALSCALE:GREGORIAN
BEGIN:VEVENT
UID:sabre-vobject-fe05f7df-04a4-4b9e-929d-3fda81898e48
DTSTAMP:20260425T165118Z
SUMMARY:B.O.S.S. Night Out
DESCRIPTION:Hey B.O.S.S. Service Members: you&#39\;re invited out every 3rd
  Friday of the month for some Fort Wainwright fun!\n
X-ALT-DESC:FMTTYPE=text/html:<!DOCTYPE HTML PUBLIC "-//W3C//DTD HTML 3.2//E
 N"><HTML><p>Hey B.O.S.S. Service Members: you&#39\;re invited out every 3r
 d Friday of the month for some Fort Wainwright fun!</p>\n</HTML>
CREATED;TZID=America/Juneau:20180328T163117
URL;VALUE=URI:https://wainwright.armymwr.com/calendar/event
DTSTART;TZID=America/Juneau:20171020T180000
DTEND;TZID=America/Juneau:20171020T190000
SEQUENCE:0
END:VEVENT
BEGIN:VEVENT
UID:sabre-vobject-3782ba34-1865-4891-92c6-259b7f33280f
DTSTAMP:20260425T165118Z
SUMMARY:B.O.S.S. Night Out
DESCRIPTION:Hey B.O.S.S. Service Members: you&#39\;re invited out every 3rd
  Friday of the month for some Fort Wainwright fun!\n
X-ALT-DESC:FMTTYPE=text/html:<!DOCTYPE HTML PUBLIC "-//W3C//DTD HTML 3.2//E
 N"><HTML><p>Hey B.O.S.S. Service Members: you&#39\;re invited out every 3r
 d Friday of the month for some Fort Wainwright fun!</p>\n</HTML>
CREATED;TZID=America/Juneau:20180328T163117
URL;VALUE=URI:https://wainwright.armymwr.com/calendar/event
DTSTART;TZID=America/Juneau:20171117T143000
DTEND;TZID=America/Juneau:20171117T153000
SEQUENCE:1
END:VEVENT
BEGIN:VEVENT
UID:sabre-vobject-c100afd1-b67f-461b-bc1c-6865460f3a98
DTSTAMP:20260425T165118Z
SUMMARY:B.O.S.S. Night Out
DESCRIPTION:Hey B.O.S.S. Service Members: you&#39\;re invited out every 3rd
  Friday of the month for some Fort Wainwright fun!\n
X-ALT-DESC:FMTTYPE=text/html:<!DOCTYPE HTML PUBLIC "-//W3C//DTD HTML 3.2//E
 N"><HTML><p>Hey B.O.S.S. Service Members: you&#39\;re invited out every 3r
 d Friday of the month for some Fort Wainwright fun!</p>\n</HTML>
CREATED;TZID=America/Juneau:20180328T163117
URL;VALUE=URI:https://wainwright.armymwr.com/calendar/event
DTSTART;TZID=America/Juneau:20171215T143000
DTEND;TZID=America/Juneau:20171215T153000
SEQUENCE:2
END:VEVENT
BEGIN:VEVENT
UID:sabre-vobject-c832684d-e606-4103-a2f7-7bb86be95430
DTSTAMP:20260425T165118Z
SUMMARY:B.O.S.S. Night Out
DESCRIPTION:Hey B.O.S.S. Service Members: you&#39\;re invited out every 3rd
  Friday of the month for some Fort Wainwright fun!\n
X-ALT-DESC:FMTTYPE=text/html:<!DOCTYPE HTML PUBLIC "-//W3C//DTD HTML 3.2//E
 N"><HTML><p>Hey B.O.S.S. Service Members: you&#39\;re invited out every 3r
 d Friday of the month for some Fort Wainwright fun!</p>\n</HTML>
CREATED;TZID=America/Juneau:20180328T163117
URL;VALUE=URI:https://wainwright.armymwr.com/calendar/event
DTSTART;TZID=America/Juneau:20180119T170000
DTEND;TZID=America/Juneau:20180119T200000
SEQUENCE:3
END:VEVENT
BEGIN:VEVENT
UID:sabre-vobject-a5177dbb-91b8-4e6f-a24c-605724efc43a
DTSTAMP:20260425T165118Z
SUMMARY:B.O.S.S. Night Out
DESCRIPTION:Hey B.O.S.S. Service Members: you&#39\;re invited out every 3rd
  Friday of the month for some Fort Wainwright fun!\n
X-ALT-DESC:FMTTYPE=text/html:<!DOCTYPE HTML PUBLIC "-//W3C//DTD HTML 3.2//E
 N"><HTML><p>Hey B.O.S.S. Service Members: you&#39\;re invited out every 3r
 d Friday of the month for some Fort Wainwright fun!</p>\n</HTML>
CREATED;TZID=America/Juneau:20180328T163117
URL;VALUE=URI:https://wainwright.armymwr.com/calendar/event
DTSTART;TZID=America/Juneau:20180216T000000
DTEND;TZID=America/Juneau:20180216T235959
SEQUENCE:4
END:VEVENT
BEGIN:VEVENT
UID:sabre-vobject-67515625-8cee-423c-9511-6f0a23a724d4
DTSTAMP:20260425T165118Z
SUMMARY:B.O.S.S. Night Out
DESCRIPTION:Hey B.O.S.S. Service Members: you&#39\;re invited out every 3rd
  Friday of the month for some Fort Wainwright fun!\n
X-ALT-DESC:FMTTYPE=text/html:<!DOCTYPE HTML PUBLIC "-//W3C//DTD HTML 3.2//E
 N"><HTML><p>Hey B.O.S.S. Service Members: you&#39\;re invited out every 3r
 d Friday of the month for some Fort Wainwright fun!</p>\n</HTML>
CREATED;TZID=America/Juneau:20180328T163117
URL;VALUE=URI:https://wainwright.armymwr.com/calendar/event
DTSTART;TZID=America/Juneau:20180316T173000
DTEND;TZID=America/Juneau:20180316T193000
SEQUENCE:5
END:VEVENT
BEGIN:VEVENT
UID:sabre-vobject-ce7c6867-3708-43d8-80a9-7975eb3dbf9c
DTSTAMP:20260425T165118Z
SUMMARY:B.O.S.S. Night Out
DESCRIPTION:Hey B.O.S.S. Service Members: you&#39\;re invited out every 3rd
  Friday of the month for some Fort Wainwright fun!\n
X-ALT-DESC:FMTTYPE=text/html:<!DOCTYPE HTML PUBLIC "-//W3C//DTD HTML 3.2//E
 N"><HTML><p>Hey B.O.S.S. Service Members: you&#39\;re invited out every 3r
 d Friday of the month for some Fort Wainwright fun!</p>\n</HTML>
CREATED;TZID=America/Juneau:20180328T163117
URL;VALUE=URI:https://wainwright.armymwr.com/calendar/event
DTSTART;TZID=America/Juneau:20180420T000000
DTEND;TZID=America/Juneau:20180420T235959
SEQUENCE:6
END:VEVENT
BEGIN:VEVENT
UID:sabre-vobject-6858911c-42ff-4f17-ae19-23e96f1446f8
DTSTAMP:20260425T165118Z
SUMMARY:B.O.S.S. Night Out
DESCRIPTION:Hey B.O.S.S. Service Members: you&#39\;re invited out every 3rd
  Friday of the month for some Fort Wainwright fun!\n
X-ALT-DESC:FMTTYPE=text/html:<!DOCTYPE HTML PUBLIC "-//W3C//DTD HTML 3.2//E
 N"><HTML><p>Hey B.O.S.S. Service Members: you&#39\;re invited out every 3r
 d Friday of the month for some Fort Wainwright fun!</p>\n</HTML>
CREATED;TZID=America/Juneau:20180328T163117
URL;VALUE=URI:https://wainwright.armymwr.com/calendar/event
DTSTART;TZID=America/Juneau:20180518T180000
DTEND;TZID=America/Juneau:20180518T200000
SEQUENCE:7
END:VEVENT
BEGIN:VEVENT
UID:sabre-vobject-709086be-3547-41f8-a64b-1c971789db0c
DTSTAMP:20260425T165118Z
SUMMARY:B.O.S.S. Night Out
DESCRIPTION:Hey B.O.S.S. Service Members: you&#39\;re invited out every 3rd
  Friday of the month for some Fort Wainwright fun!\n
X-ALT-DESC:FMTTYPE=text/html:<!DOCTYPE HTML PUBLIC "-//W3C//DTD HTML 3.2//E
 N"><HTML><p>Hey B.O.S.S. Service Members: you&#39\;re invited out every 3r
 d Friday of the month for some Fort Wainwright fun!</p>\n</HTML>
CREATED;TZID=America/Juneau:20180328T163117
URL;VALUE=URI:https://wainwright.armymwr.com/calendar/event
DTSTART;TZID=America/Juneau:20180615T000000
DTEND;TZID=America/Juneau:20180615T235959
SEQUENCE:8
END:VEVENT
END:VCALENDAR
