BEGIN:VCALENDAR
VERSION:2.0
PRODID:-//Sabre//Sabre VObject 4.5.8//EN
CALSCALE:GREGORIAN
BEGIN:VEVENT
UID:sabre-vobject-328a1544-951e-4a58-bf63-ea0f5346f9bf
DTSTAMP:20260424T110544Z
SUMMARY:B.O.S.S. Tuesdays with Outdoor Recreation: Rock Climbing Clinic
DESCRIPTION:Join B.O.S.S. for a night of adventure!\n
X-ALT-DESC:FMTTYPE=text/html:<!DOCTYPE HTML PUBLIC "-//W3C//DTD HTML 3.2//E
 N"><HTML><p>Join B.O.S.S. for a night of adventure!</p>\n</HTML>
CREATED;TZID=America/Juneau:20170921T092849
URL;VALUE=URI:https://wainwright.armymwr.com/calendar/event
DTSTART;TZID=America/Juneau:20171010T173000
DTEND;TZID=America/Juneau:20171010T193000
SEQUENCE:0
END:VEVENT
END:VCALENDAR
