BEGIN:VCALENDAR
VERSION:2.0
PRODID:-//Sabre//Sabre VObject 4.5.8//EN
CALSCALE:GREGORIAN
BEGIN:VEVENT
UID:sabre-vobject-932c2c84-7c1f-4de6-b58b-e6608a53b237
DTSTAMP:20260424T155442Z
SUMMARY:B.O.S.S. Tuesdays with Outdoor Recreation: Biking
DESCRIPTION:Join B.O.S.S. and Outdoor Recreation for an adventure!\n
X-ALT-DESC:FMTTYPE=text/html:<!DOCTYPE HTML PUBLIC "-//W3C//DTD HTML 3.2//E
 N"><HTML><p>Join B.O.S.S. and Outdoor Recreation for an adventure!</p>\n</
 HTML>
CREATED;TZID=America/Juneau:20170913T134343
URL;VALUE=URI:https://wainwright.armymwr.com/calendar/event
DTSTART;TZID=America/Juneau:20170912T173000
DTEND;TZID=America/Juneau:20170912T193000
SEQUENCE:0
END:VEVENT
END:VCALENDAR
