BEGIN:VCALENDAR
VERSION:2.0
PRODID:-//Sabre//Sabre VObject 4.5.8//EN
CALSCALE:GREGORIAN
BEGIN:VEVENT
UID:sabre-vobject-d17b6b9a-305e-430e-9339-784d9989339d
DTSTAMP:20260423T142112Z
SUMMARY:Chena Bend Open
DESCRIPTION:Take part in this annual golf event\, open to all players.\n
X-ALT-DESC:FMTTYPE=text/html:<!DOCTYPE HTML PUBLIC "-//W3C//DTD HTML 3.2//E
 N"><HTML><p>Take part in this annual golf event\, open to all players.</p>
 \n</HTML>
CREATED;TZID=America/Juneau:20170913T134343
URL;VALUE=URI:https://wainwright.armymwr.com/calendar/event
DTSTART;TZID=America/Juneau:20170826T000000
DTEND;TZID=America/Juneau:20170827T235959
SEQUENCE:0
END:VEVENT
END:VCALENDAR
