BEGIN:VCALENDAR
VERSION:2.0
PRODID:-//Sabre//Sabre VObject 4.5.8//EN
CALSCALE:GREGORIAN
BEGIN:VEVENT
UID:sabre-vobject-1561fee5-c3be-42ea-90ea-02fa3d1fe4ec
DTSTAMP:20260421T085608Z
SUMMARY:Operation Magic All Stars
DESCRIPTION:Don&#39\;t let your eyes deceive you...\n
X-ALT-DESC:FMTTYPE=text/html:<!DOCTYPE HTML PUBLIC "-//W3C//DTD HTML 3.2//E
 N"><HTML><p>Don&#39\;t let your eyes deceive you...</p>\n</HTML>
CREATED;TZID=America/Juneau:20170913T134343
URL;VALUE=URI:https://wainwright.armymwr.com/calendar/event
DTSTART;TZID=America/Juneau:20170803T180000
DTEND;TZID=America/Juneau:20170803T190000
SEQUENCE:0
END:VEVENT
END:VCALENDAR
