BEGIN:VCALENDAR
VERSION:2.0
PRODID:-//Sabre//Sabre VObject 4.5.8//EN
CALSCALE:GREGORIAN
BEGIN:VEVENT
UID:sabre-vobject-0265d94f-4c7a-42a1-b260-980e9c0ed9b9
DTSTAMP:20260420T194830Z
SUMMARY:3rd Annual Fort Wainwright Invitational Softball Tournament
DESCRIPTION:
X-ALT-DESC:FMTTYPE=text/html:<!DOCTYPE HTML PUBLIC "-//W3C//DTD HTML 3.2//E
 N"><HTML></HTML>
CREATED;TZID=America/Juneau:20170913T134343
URL;VALUE=URI:https://wainwright.armymwr.com/calendar/event
DTSTART;TZID=America/Juneau:20170725T000000
DTEND;TZID=America/Juneau:20170725T235959
SEQUENCE:0
END:VEVENT
END:VCALENDAR
