BEGIN:VCALENDAR
VERSION:2.0
PRODID:-//Sabre//Sabre VObject 4.5.8//EN
CALSCALE:GREGORIAN
BEGIN:VEVENT
UID:sabre-vobject-57a046e4-c507-41af-8f42-627af05089be
DTSTAMP:20260421T001856Z
SUMMARY:Paint and Pour
DESCRIPTION:Enjoy a relaxing night of painting and wine with friends.\n
X-ALT-DESC:FMTTYPE=text/html:<!DOCTYPE HTML PUBLIC "-//W3C//DTD HTML 3.2//E
 N"><HTML><p>Enjoy a relaxing night of painting and wine with friends.</p>\
 n</HTML>
CREATED;TZID=America/Juneau:20180205T085523
URL;VALUE=URI:https://wainwright.armymwr.com/calendar/event
DTSTART;TZID=America/Juneau:20170722T163000
DTEND;TZID=America/Juneau:20170722T183000
SEQUENCE:0
END:VEVENT
BEGIN:VEVENT
UID:sabre-vobject-577fad0e-e978-42f8-ba41-4058788fa370
DTSTAMP:20260421T001856Z
SUMMARY:Paint and Pour
DESCRIPTION:Enjoy a relaxing night of painting and wine with friends.\n
X-ALT-DESC:FMTTYPE=text/html:<!DOCTYPE HTML PUBLIC "-//W3C//DTD HTML 3.2//E
 N"><HTML><p>Enjoy a relaxing night of painting and wine with friends.</p>\
 n</HTML>
CREATED;TZID=America/Juneau:20180205T085523
URL;VALUE=URI:https://wainwright.armymwr.com/calendar/event
DTSTART;TZID=America/Juneau:20170826T163000
DTEND;TZID=America/Juneau:20170826T183000
SEQUENCE:1
END:VEVENT
BEGIN:VEVENT
UID:sabre-vobject-4cff9a9b-0a4e-48e2-9529-7c55b0ddc211
DTSTAMP:20260421T001856Z
SUMMARY:Paint and Pour
DESCRIPTION:Enjoy a relaxing night of painting and wine with friends.\n
X-ALT-DESC:FMTTYPE=text/html:<!DOCTYPE HTML PUBLIC "-//W3C//DTD HTML 3.2//E
 N"><HTML><p>Enjoy a relaxing night of painting and wine with friends.</p>\
 n</HTML>
CREATED;TZID=America/Juneau:20180205T085523
URL;VALUE=URI:https://wainwright.armymwr.com/calendar/event
DTSTART;TZID=America/Juneau:20170909T163000
DTEND;TZID=America/Juneau:20170909T183000
SEQUENCE:2
END:VEVENT
BEGIN:VEVENT
UID:sabre-vobject-402330dc-8a0e-40ef-8d2c-e7be0d3a4eef
DTSTAMP:20260421T001856Z
SUMMARY:Paint and Pour
DESCRIPTION:Enjoy a relaxing night of painting and wine with friends.\n
X-ALT-DESC:FMTTYPE=text/html:<!DOCTYPE HTML PUBLIC "-//W3C//DTD HTML 3.2//E
 N"><HTML><p>Enjoy a relaxing night of painting and wine with friends.</p>\
 n</HTML>
CREATED;TZID=America/Juneau:20180205T085523
URL;VALUE=URI:https://wainwright.armymwr.com/calendar/event
DTSTART;TZID=America/Juneau:20171015T163000
DTEND;TZID=America/Juneau:20171015T183000
SEQUENCE:3
END:VEVENT
BEGIN:VEVENT
UID:sabre-vobject-c7457f04-76b1-4bdb-9286-fa1407f1e6cd
DTSTAMP:20260421T001856Z
SUMMARY:Paint and Pour
DESCRIPTION:Enjoy a relaxing night of painting and wine with friends.\n
X-ALT-DESC:FMTTYPE=text/html:<!DOCTYPE HTML PUBLIC "-//W3C//DTD HTML 3.2//E
 N"><HTML><p>Enjoy a relaxing night of painting and wine with friends.</p>\
 n</HTML>
CREATED;TZID=America/Juneau:20180205T085523
URL;VALUE=URI:https://wainwright.armymwr.com/calendar/event
DTSTART;TZID=America/Juneau:20171105T163000
DTEND;TZID=America/Juneau:20171105T183000
SEQUENCE:4
END:VEVENT
BEGIN:VEVENT
UID:sabre-vobject-90d3a41e-c16a-444b-a8f6-6bcfe54f2dc4
DTSTAMP:20260421T001856Z
SUMMARY:Paint and Pour
DESCRIPTION:Enjoy a relaxing night of painting and wine with friends.\n
X-ALT-DESC:FMTTYPE=text/html:<!DOCTYPE HTML PUBLIC "-//W3C//DTD HTML 3.2//E
 N"><HTML><p>Enjoy a relaxing night of painting and wine with friends.</p>\
 n</HTML>
CREATED;TZID=America/Juneau:20180205T085523
URL;VALUE=URI:https://wainwright.armymwr.com/calendar/event
DTSTART;TZID=America/Juneau:20171203T163000
DTEND;TZID=America/Juneau:20171203T183000
SEQUENCE:5
END:VEVENT
BEGIN:VEVENT
UID:sabre-vobject-3973656d-6b68-46df-925e-4831e55be9ad
DTSTAMP:20260421T001856Z
SUMMARY:Paint and Pour
DESCRIPTION:Enjoy a relaxing night of painting and wine with friends.\n
X-ALT-DESC:FMTTYPE=text/html:<!DOCTYPE HTML PUBLIC "-//W3C//DTD HTML 3.2//E
 N"><HTML><p>Enjoy a relaxing night of painting and wine with friends.</p>\
 n</HTML>
CREATED;TZID=America/Juneau:20180205T085523
URL;VALUE=URI:https://wainwright.armymwr.com/calendar/event
DTSTART;TZID=America/Juneau:20180128T140000
DTEND;TZID=America/Juneau:20180128T160000
SEQUENCE:6
END:VEVENT
BEGIN:VEVENT
UID:sabre-vobject-a8e9309c-c8b1-4629-8f96-c5add63cbfb7
DTSTAMP:20260421T001856Z
SUMMARY:Paint and Pour
DESCRIPTION:Enjoy a relaxing night of painting and wine with friends.\n
X-ALT-DESC:FMTTYPE=text/html:<!DOCTYPE HTML PUBLIC "-//W3C//DTD HTML 3.2//E
 N"><HTML><p>Enjoy a relaxing night of painting and wine with friends.</p>\
 n</HTML>
CREATED;TZID=America/Juneau:20180205T085523
URL;VALUE=URI:https://wainwright.armymwr.com/calendar/event
DTSTART;TZID=America/Juneau:20180218T140000
DTEND;TZID=America/Juneau:20180218T160000
SEQUENCE:7
END:VEVENT
BEGIN:VEVENT
UID:sabre-vobject-e98d7e08-bdeb-4337-8e7c-66a94d4c7f21
DTSTAMP:20260421T001856Z
SUMMARY:Paint and Pour
DESCRIPTION:Enjoy a relaxing night of painting and wine with friends.\n
X-ALT-DESC:FMTTYPE=text/html:<!DOCTYPE HTML PUBLIC "-//W3C//DTD HTML 3.2//E
 N"><HTML><p>Enjoy a relaxing night of painting and wine with friends.</p>\
 n</HTML>
CREATED;TZID=America/Juneau:20180205T085523
URL;VALUE=URI:https://wainwright.armymwr.com/calendar/event
DTSTART;TZID=America/Juneau:20180325T140000
DTEND;TZID=America/Juneau:20180325T160000
SEQUENCE:8
END:VEVENT
END:VCALENDAR
