BEGIN:VCALENDAR
VERSION:2.0
PRODID:-//Sabre//Sabre VObject 4.5.8//EN
CALSCALE:GREGORIAN
BEGIN:VEVENT
UID:sabre-vobject-9f76fcea-cc5f-4e52-951c-ed18cb309a61
DTSTAMP:20260419T142543Z
SUMMARY:Parents' Day Out 
DESCRIPTION:Let us watch the kids-- you deserve a break!\n
X-ALT-DESC:FMTTYPE=text/html:<!DOCTYPE HTML PUBLIC "-//W3C//DTD HTML 3.2//E
 N"><HTML><p>Let us watch the kids-- you deserve a break!</p>\n</HTML>
CREATED;TZID=America/Juneau:20170913T134343
URL;VALUE=URI:https://wainwright.armymwr.com/calendar/event
DTSTART;TZID=America/Juneau:20170715T100000
DTEND;TZID=America/Juneau:20170715T140000
SEQUENCE:0
END:VEVENT
BEGIN:VEVENT
UID:sabre-vobject-e998bde3-221b-48a3-a871-8dfac5615b98
DTSTAMP:20260419T142543Z
SUMMARY:Parents' Day Out 
DESCRIPTION:Let us watch the kids-- you deserve a break!\n
X-ALT-DESC:FMTTYPE=text/html:<!DOCTYPE HTML PUBLIC "-//W3C//DTD HTML 3.2//E
 N"><HTML><p>Let us watch the kids-- you deserve a break!</p>\n</HTML>
CREATED;TZID=America/Juneau:20170913T134343
URL;VALUE=URI:https://wainwright.armymwr.com/calendar/event
DTSTART;TZID=America/Juneau:20170812T100000
DTEND;TZID=America/Juneau:20170812T140000
SEQUENCE:1
END:VEVENT
END:VCALENDAR
