BEGIN:VCALENDAR
VERSION:2.0
PRODID:-//Sabre//Sabre VObject 4.5.8//EN
CALSCALE:GREGORIAN
BEGIN:VEVENT
UID:sabre-vobject-47e39778-692e-4724-a051-5e8137fba094
DTSTAMP:20260419T162912Z
SUMMARY:4th of July BBQ on the Patio
DESCRIPTION:Celebrate the weekend with a BBQ at the Warrior Zone!\n
X-ALT-DESC:FMTTYPE=text/html:<!DOCTYPE HTML PUBLIC "-//W3C//DTD HTML 3.2//E
 N"><HTML><p>Celebrate the weekend with a BBQ at the Warrior Zone!</p>\n</H
 TML>
CREATED;TZID=America/Juneau:20170913T134343
URL;VALUE=URI:https://wainwright.armymwr.com/calendar/event
DTSTART;TZID=America/Juneau:20170703T170000
DTEND;TZID=America/Juneau:20170703T210000
SEQUENCE:0
END:VEVENT
BEGIN:VEVENT
UID:sabre-vobject-2b2b3ab1-7c55-4e93-ae8b-ee4a44483522
DTSTAMP:20260419T162912Z
SUMMARY:4th of July BBQ on the Patio
DESCRIPTION:Celebrate the weekend with a BBQ at the Warrior Zone!\n
X-ALT-DESC:FMTTYPE=text/html:<!DOCTYPE HTML PUBLIC "-//W3C//DTD HTML 3.2//E
 N"><HTML><p>Celebrate the weekend with a BBQ at the Warrior Zone!</p>\n</H
 TML>
CREATED;TZID=America/Juneau:20170913T134343
URL;VALUE=URI:https://wainwright.armymwr.com/calendar/event
DTSTART;TZID=America/Juneau:20170704T170000
DTEND;TZID=America/Juneau:20170704T210000
SEQUENCE:1
END:VEVENT
END:VCALENDAR
